BEGIN:VCALENDAR
VERSION:2.0
PRODID:-//Library Market//iCal Export//EN
BEGIN:VEVENT
SUMMARY:Doodle &amp; Do: Rainbow Suncatcher
UID:21810
DTSTAMP:20260419T182000Z
DTSTART:20260518T050000Z
DTEND:20260521T050000Z
LOCATION:153 N. Leon Drive, Gheens, LA 70355, United States
ROOM: Gheens - Children&#039;s Area
DESCRIPTION:Perfect for ages 6-11, Doodle &amp; Do is a drop-in program wh
 ere kids can unleash their creativity. A new hands-on project will be wait
 ing each week -just doodle, do, and have fun!Age Group:  Ages 6-11Program
  Type:  No Registration/Limit
URL:https://lafourche.librarycalendar.com/event/doodle-do-rainbow-suncatch
 er-21810
END:VEVENT
END:VCALENDAR
