BEGIN:VCALENDAR
VERSION:2.0
PRODID:-//Library Market//iCal Export//EN
BEGIN:VEVENT
SUMMARY:Pokeno
UID:21815
DTSTAMP:20260419T182000Z
DTSTART:20260521T150000Z
DTEND:20260521T160000Z
LOCATION:153 N. Leon Drive, Gheens, LA 70355, United States
ROOM: Gheens - Main Area
DESCRIPTION:Join us for a fun game of Pokeno for a chance to win small pri
 zes.Age Group:  AdultsProgram Type:  No Registration/Limit
URL:https://lafourche.librarycalendar.com/event/pokeno-21815
END:VEVENT
END:VCALENDAR
