BEGIN:VCALENDAR
VERSION:2.0
PRODID:-//Library Market//iCal Export//EN
BEGIN:VEVENT
SUMMARY:Stomp Into Summer! Kick-Off
UID:21841
DTSTAMP:20260420T071400Z
DTSTART:20260526T050000Z
DTEND:20260526T050000Z
LOCATION:153 N. Leon Drive, Gheens, LA 70355, United States
ROOM: Gheens - Children&#039;s Area
DESCRIPTION:Dig into a Summer of reading and discovery with dinosaur-theme
 d fun, crafts, and activities for all ages.  Sign up and start your summe
 r adventure.Age Group:  All AgesProgram Type:  No Registration/Limit
URL:https://lafourche.librarycalendar.com/event/stomp-summer-kick-21841
END:VEVENT
END:VCALENDAR
