BEGIN:VCALENDAR
VERSION:2.0
PRODID:-//Library Market//iCal Export//EN
BEGIN:VEVENT
SUMMARY:Children’s Weekly Craft: 3D Ladybug
UID:21856
DTSTAMP:20260422T130500Z
DTSTART:20260518T050000Z
DTEND:20260521T050000Z
LOCATION:305 East Fifth Street, Larose, LA 70373, United States
ROOM: Larose - Front Tables
DESCRIPTION:Each week new craft supplies will be available for the latest 
 craft.Age Group:  KidsProgram Type:  No Registration/Limit
URL:https://lafourche.librarycalendar.com/event/childrens-weekly-craft-3d-
 ladybug-21856
END:VEVENT
END:VCALENDAR
