BEGIN:VCALENDAR
VERSION:2.0
PRODID:-//Library Market//iCal Export//EN
BEGIN:VEVENT
SUMMARY:Clay Builders: Dragonfly (L10)
UID:21859
DTSTAMP:20260419T124500Z
DTSTART:20260528T180000Z
DTEND:20260528T190000Z
LOCATION:305 East Fifth Street, Larose, LA 70373, United States
ROOM: Larose - Meeting Room
DESCRIPTION:Children and teens will learn how to build a different item ea
 ch month using air dry clay.  This month we will be creating a dragonfly.
  Age Group:  Ages 5-15Program Type:  (L10) Limited to the first 10 part
 icipants
URL:https://lafourche.librarycalendar.com/event/clay-builders-dragonfly-l1
 0-21859
END:VEVENT
END:VCALENDAR
