BEGIN:VCALENDAR
VERSION:2.0
PRODID:-//Library Market//iCal Export//EN
BEGIN:VEVENT
SUMMARY:Bingo
UID:21868
DTSTAMP:20260421T165900Z
DTSTART:20260519T180000Z
DTEND:20260519T190000Z
LOCATION:305 East Fifth Street, Larose, LA 70373, United States
ROOM: Larose - Meeting Room
DESCRIPTION:Join us for Bingo where adults play for small prizes.Age Grou
 p:  Ages 18+Program Type:  No Registration/Limit
URL:https://lafourche.librarycalendar.com/event/bingo-21868
END:VEVENT
END:VCALENDAR
