BEGIN:VCALENDAR
VERSION:2.0
PRODID:-//Library Market//iCal Export//EN
BEGIN:VEVENT
SUMMARY:Lego Robotics (L15)
UID:21947
DTSTAMP:20260425T194100Z
DTSTART:20260523T190000Z
DTEND:20260523T200000Z
LOCATION:705 West Fifth Street, Thibodaux, LA 70301, United States
ROOM: Thibodaux - YA Computer Lab
DESCRIPTION:Children and Teens are invited to work as young scientists, en
 gineers, and mathematicians to build and program machines using our Lego R
 obotics We-Do and Spike kits. Age Group:  Ages 6-18Program Type:  (L15)
  Limited to the first 15 participants 
URL:https://lafourche.librarycalendar.com/event/lego-robotics-l15-21947
END:VEVENT
END:VCALENDAR
