BEGIN:VCALENDAR
VERSION:2.0
PRODID:-//Library Market//iCal Export//EN
BEGIN:VEVENT
SUMMARY:*After Hours Nerf Wars
UID:21948
DTSTAMP:20260424T150900Z
DTSTART:20260529T220000Z
DTEND:20260530T000000Z
LOCATION:705 West Fifth Street, Thibodaux, LA 70301, United States
ROOM: Thibodaux - Activity Room
DESCRIPTION:Prepare for battle in an after-hours tournament. Defeat your r
 ival team by strategically shooting the opposing teams’ players with ner
 f guns. Learn real world combat skills for the upcoming fall of humanity w
 ith this fun exercise.Age Group:  Ages 5-12Program Type:  *Registration 
 Required
URL:https://lafourche.librarycalendar.com/event/after-hours-nerf-wars-2194
 8
END:VEVENT
END:VCALENDAR
