BEGIN:VCALENDAR
VERSION:2.0
PRODID:-//Library Market//iCal Export//EN
BEGIN:VEVENT
SUMMARY:Bingo Bonanza
UID:21966
DTSTAMP:20260425T015600Z
DTSTART:20260508T150000Z
DTEND:20260508T160000Z
LOCATION:705 West Fifth Street, Thibodaux, LA 70301, United States
ROOM: Thibodaux - Activity Room
DESCRIPTION:Compete in Bingo games for chances to win a small prize! Age 
 Group:  AdultsProgram Type:  No Registration/Limit
URL:https://lafourche.librarycalendar.com/event/bingo-bonanza-21966
END:VEVENT
END:VCALENDAR
