BEGIN:VCALENDAR
VERSION:2.0
PRODID:-//Library Market//iCal Export//EN
BEGIN:VEVENT
SUMMARY:Line Dancing 101
UID:21973
DTSTAMP:20260424T150900Z
DTSTART:20260530T150000Z
DTEND:20260530T160000Z
LOCATION:705 West Fifth Street, Thibodaux, LA 70301, United States
ROOM: Thibodaux - Activity Room
DESCRIPTION:Kick up your heels and have a ball with others at the library!
  Learn new line dances or practice old ones. Though aimed at beginners, al
 l levels are welcome.Age Group:  AdultsProgram Type:  No Registration/Li
 mit
URL:https://lafourche.librarycalendar.com/event/line-dancing-101-21973
END:VEVENT
END:VCALENDAR
