BEGIN:VCALENDAR
VERSION:2.0
PRODID:-//Library Market//iCal Export//EN
BEGIN:VEVENT
SUMMARY:STEAM Sit-Down
UID:21987
DTSTAMP:20260423T104800Z
DTSTART:20260527T200000Z
DTEND:20260527T220000Z
LOCATION:705 West Fifth Street, Thibodaux, LA 70301, United States
ROOM: Thibodaux - Children&#039;s Area
DESCRIPTION:Code, construct, create, &amp; have fun with cool STEAM resour
 ces at the library every Monday - Thursday from 3-5 PM.Age Group:  All Ag
 esProgram Type:  No Registration/Limit
URL:https://lafourche.librarycalendar.com/event/steam-sit-down-21987
END:VEVENT
END:VCALENDAR
