BEGIN:VCALENDAR
VERSION:2.0
PRODID:-//Library Market//iCal Export//EN
BEGIN:VEVENT
SUMMARY:Senior Planet: Using Google Drive
UID:21995
DTSTAMP:20260424T040300Z
DTSTART:20260528T180000Z
DTEND:20260528T190000Z
LOCATION:705 West Fifth Street, Thibodaux, LA 70301, United States
ROOM: Thibodaux - Computer Lab Room 108
DESCRIPTION:Join us for a new program series to help older adults learn ne
 w skills, save money, get in shape, &amp; make new friends! We are thrille
 d to have teamed up with Senior Planet from AARP to bring our 55+ communit
 y together at the library! Join us for classes on technology basics, healt
 h &amp; wellness, socialization &amp; more.Using Google Drive: If you hav
 e a Gmail address, you have access to free cloud storage through Google Dr
 ive! With this cloud storage service, you can store many types of files an
 d access them from any device with an internet connection. In this hands-o
 n workshop, you’ll create and upload folders to Drive and organize your 
 files within folders. We’ll also go over sharing folders with others. Yo
 u must have a Gmail address for Google Drive and be comfortable navigating
  the internet. Bring your Gmail username and password and be ready to sign
  in at the workshop. A Gmail account can be created during the workshop. A
 ll you need is a valid smartphone.Age Group:  AdultsProgram Type:  No Re
 gistration/Limit
URL:https://lafourche.librarycalendar.com/event/senior-planet-using-google
 -drive-21995
END:VEVENT
END:VCALENDAR
