BEGIN:VCALENDAR
VERSION:2.0
PRODID:-//Library Market//iCal Export//EN
BEGIN:VEVENT
SUMMARY:Line Dancing 101: Beginners
UID:22006
DTSTAMP:20260426T004300Z
DTSTART:20260502T150000Z
DTEND:20260502T160000Z
LOCATION:705 West Fifth Street, Thibodaux, LA 70301, United States
ROOM: Thibodaux - Activity Room
DESCRIPTION:Have you always wanted to learn line dancing? Join us as we ki
 ck up our heels and have a ball with others at the library learning new li
 ne dances at a slower pace for beginners.Age Group: Â AdultsProgram Type:Â
   No Registration/Limit
URL:https://lafourche.librarycalendar.com/event/line-dancing-101-beginners
 -22006
END:VEVENT
END:VCALENDAR
