BEGIN:VCALENDAR
VERSION:2.0
PRODID:-//Library Market//iCal Export//EN
BEGIN:VEVENT
SUMMARY:Make it in 3D (L15)
UID:22011
DTSTAMP:20260424T040300Z
DTSTART:20260521T220000Z
DTEND:20260521T230000Z
LOCATION:705 West Fifth Street, Thibodaux, LA 70301, United States
ROOM: Thibodaux - Activity Room
DESCRIPTION:Come see the basics of how the 3D printer works and what you c
 ould potentially make!Age Group:  All AgesProgram Type:  (L15) Limited t
 o the first 15 participants
URL:https://lafourche.librarycalendar.com/event/make-it-3d-l15-22011
END:VEVENT
END:VCALENDAR
