BEGIN:VCALENDAR
VERSION:2.0
PRODID:-//Library Market//iCal Export//EN
BEGIN:VEVENT
SUMMARY:Stomp Into Summer!: Dino Games Kick-Off
UID:22012
DTSTAMP:20260424T025400Z
DTSTART:20260526T190000Z
DTEND:20260526T200000Z
LOCATION:705 West Fifth Street, Thibodaux, LA 70301, United States
ROOM: Thibodaux - Activity Room
DESCRIPTION:We are kicking off a dino-riffic summer with a few dino games.
  Come check out our rotating stations filled with dino games, stories, act
 ivities, and more. Light refreshments will be served.Age Group:  All Ages
 Program Type:  No Registration/Limit
URL:https://lafourche.librarycalendar.com/event/stomp-summer-dino-games-ki
 ck-22012
END:VEVENT
END:VCALENDAR
