BEGIN:VCALENDAR
VERSION:2.0
PRODID:-//Library Market//iCal Export//EN
BEGIN:VEVENT
SUMMARY:Flying Bee Craft (L15)
UID:22091
DTSTAMP:20260425T202000Z
DTSTART:20260514T213000Z
DTEND:20260514T223000Z
LOCATION:16241 E Main St, Cut Off, LA 70345, United States
ROOM: South Lafourche - Activity Room
DESCRIPTION:Make a bee fly from flower to flower with this cute Spring bee
  craft. Age Group:  KidsProgram Type:  (L15) Limited to the first 15 pa
 rticipants
URL:https://lafourche.librarycalendar.com/event/flying-bee-craft-l15-22091
END:VEVENT
END:VCALENDAR
