BEGIN:VCALENDAR
VERSION:2.0
PRODID:-//Library Market//iCal Export//EN
BEGIN:VEVENT
SUMMARY:*3D Printing Demo
UID:22106
DTSTAMP:20260424T150900Z
DTSTART:20260528T183000Z
DTEND:20260528T193000Z
LOCATION:16241 E Main St, Cut Off, LA 70345, United States
ROOM: South Lafourche - Makerspace
DESCRIPTION:Come see the basics of how the 3D printer works!Age Group:  A
 ges 11-17Program Type:  *Registration Required
URL:https://lafourche.librarycalendar.com/event/3d-printing-demo-22106
END:VEVENT
END:VCALENDAR
