BEGIN:VCALENDAR
VERSION:2.0
PRODID:-//Library Market//iCal Export//EN
BEGIN:VEVENT
SUMMARY:Line Dancing
UID:22109
DTSTAMP:20260424T040300Z
DTSTART:20260520T180000Z
DTEND:20260520T190000Z
LOCATION:16241 E Main St, Cut Off, LA 70345, United States
ROOM: South Lafourche - Activity Room
DESCRIPTION:Kick up your heels and have a ball with others at the library.
  Learn new line dances or practice old ones. Though aimed at beginners, al
 l levels are welcomed!Age Group:  AdultsProgram Type:  No Registration/L
 imit
URL:https://lafourche.librarycalendar.com/event/line-dancing-22109
END:VEVENT
END:VCALENDAR
