BEGIN:VCALENDAR
VERSION:2.0
PRODID:-//Library Market//iCal Export//EN
BEGIN:VEVENT
SUMMARY:Call Out Bingo
UID:22114
DTSTAMP:20260426T002300Z
DTSTART:20260515T143000Z
DTEND:20260515T153000Z
LOCATION:16241 E Main St, Cut Off, LA 70345, United States
ROOM: South Lafourche - Activity Room
DESCRIPTION:Play bingo for a chance to win small prizes.Age Group:  Adult
 sProgram Type:  No Registration/Limit
URL:https://lafourche.librarycalendar.com/event/call-out-bingo-22114
END:VEVENT
END:VCALENDAR
