BEGIN:VCALENDAR
VERSION:2.0
PRODID:-//Library Market//iCal Export//EN
BEGIN:VEVENT
SUMMARY:Basic English Class
UID:22121
DTSTAMP:20260424T150900Z
DTSTART:20260529T153000Z
DTEND:20260529T163000Z
LOCATION:16241 E Main St, Cut Off, LA 70345, United States
ROOM: South Lafourche - Study Room 2
DESCRIPTION:Know anyone interested in learning to speak English or in impr
 oving their English? Learn basic English during these free and informal cl
 asses.Age Group:  AdultsProgram Type:  No Registration/Limit
URL:https://lafourche.librarycalendar.com/event/basic-english-class-22121
END:VEVENT
END:VCALENDAR
