BEGIN:VCALENDAR
VERSION:2.0
PRODID:-//Library Market//iCal Export//EN
BEGIN:VEVENT
SUMMARY:Basic Spanish Class
UID:22122
DTSTAMP:20260426T002300Z
DTSTART:20260508T153000Z
DTEND:20260508T163000Z
LOCATION:16241 E Main St, Cut Off, LA 70345, United States
ROOM: South Lafourche - Study Room 2
DESCRIPTION:Interested in learning Spanish? Learn basic Spanish during the
 se free and informal classes.Age Group:  AdultsProgram Type:  No Registr
 ation/Limit
URL:https://lafourche.librarycalendar.com/event/basic-spanish-class-22122
END:VEVENT
END:VCALENDAR
