BEGIN:VCALENDAR
VERSION:2.0
PRODID:-//Library Market//iCal Export//EN
BEGIN:VEVENT
SUMMARY:Senior Planet: Getting Started with Facebook
UID:22125
DTSTAMP:20260424T000400Z
DTSTART:20260520T193000Z
DTEND:20260520T203000Z
LOCATION:16241 E Main St, Cut Off, LA 70345, United States
ROOM: South Lafourche - Activity Room
DESCRIPTION:Join us for a new program series to help older adults learn ne
 w skills, save money, get in shape, &amp; make new friends! We are thrille
 d to have teamed up with Senior Planet from AARP to bring our 55+ communit
 y together at the library! Join us for classes on technology basics, healt
 h &amp; wellness, socialization &amp; more.Getting Started with Facebook: 
  During this hands-on workshop, you will sign up for Facebook and begin b
 uilding your profile. You’ll also learn how to find friends and will get
  a brief introduction to Facebook’s privacy settings. If you’re ready 
 to join Facebook, then this workshop is for you!Age Group:  AdultsProgram
  Type:  No Registration/Limit
URL:https://lafourche.librarycalendar.com/event/senior-planet-getting-star
 ted-facebook-22125
END:VEVENT
END:VCALENDAR
