BEGIN:VCALENDAR
VERSION:2.0
PRODID:-//Library Market//iCal Export//EN
BEGIN:VEVENT
SUMMARY:*Sewing Class: Tea Towels
UID:22129
DTSTAMP:20260425T200200Z
DTSTART:20260518T180000Z
DTEND:20260518T190000Z
LOCATION:16241 E Main St, Cut Off, LA 70345, United States
ROOM: South Lafourche - Makerspace
DESCRIPTION:This is a beginner-friendly sewing lesson in the Makerspace de
 signed to introduce adults to using a sewing machine and some basic hand s
 ewing. Age Group:  AdultsProgram Type:  *Registration Required
URL:https://lafourche.librarycalendar.com/event/sewing-class-tea-towels-22
 129
END:VEVENT
END:VCALENDAR
