BEGIN:VCALENDAR
VERSION:2.0
PRODID:-//Library Market//iCal Export//EN
BEGIN:VEVENT
SUMMARY:*Glowforge Demo
UID:22130
DTSTAMP:20260425T194100Z
DTSTART:20260519T183000Z
DTEND:20260519T193000Z
LOCATION:16241 E Main St, Cut Off, LA 70345, United States
ROOM: South Lafourche - Makerspace
DESCRIPTION:Come learn about our Glowforge, a fun laser-printer that allow
 s you to cut, score, and engrave on many different types of materials.Age 
 Group:  AdultsProgram Type:  *Registration Required
URL:https://lafourche.librarycalendar.com/event/glowforge-demo-22130
END:VEVENT
END:VCALENDAR
