BEGIN:VCALENDAR
VERSION:2.0
PRODID:-//Library Market//iCal Export//EN
BEGIN:VEVENT
SUMMARY:STEAM Sit-Down
UID:22146
DTSTAMP:20260424T150900Z
DTSTART:20260527T203000Z
DTEND:20260527T220000Z
LOCATION:16241 E Main St, Cut Off, LA 70345, United States
ROOM: South Lafourche - Circulation Area
DESCRIPTION:Code, construct, create, &amp; have fun with cool STEAM resour
 ces at the library all day every Monday - Thursday.Age Group:  All AgesPr
 ogram Type:  No Registration/Limit
URL:https://lafourche.librarycalendar.com/event/steam-sit-down-22146
END:VEVENT
END:VCALENDAR
