BEGIN:VCALENDAR
VERSION:2.0
PRODID:-//Library Market//iCal Export//EN
BEGIN:VEVENT
SUMMARY:Bicycle Safety Games
UID:22157
DTSTAMP:20260425T194100Z
DTSTART:20260502T180000Z
DTEND:20260502T190000Z
LOCATION:16241 E Main St, Cut Off, LA 70345, United States
ROOM: South Lafourche - Activity Room
DESCRIPTION:Enjoy bicycle-safety themed games, including bingo, a memory g
 ame and a word search as we observe National Bicycle Month &amp; Bicycle S
 afety Month. Participants will also receive a small goodie bag while suppl
 ies last.Age Group:  All AgesProgram Type:  No Registration/Limit
URL:https://lafourche.librarycalendar.com/event/bicycle-safety-games-22157
END:VEVENT
END:VCALENDAR
