BEGIN:VCALENDAR
VERSION:2.0
PRODID:-//Library Market//iCal Export//EN
BEGIN:VEVENT
SUMMARY:Cardio Crew
UID:22190
DTSTAMP:20260425T194100Z
DTSTART:20260512T140000Z
DTEND:20260512T150000Z
LOCATION:198 Mazerac Street, Houma, LA 70364, United States
ROOM: Bayou Blue - Meeting Room
DESCRIPTION:Come to the library and exercise to low impact videos with oth
 er adults. Age Group:  AdultsProgram Type:  No Registration/Limit
URL:https://lafourche.librarycalendar.com/event/cardio-crew-22190
END:VEVENT
END:VCALENDAR
