BEGIN:VCALENDAR
VERSION:2.0
PRODID:-//Library Market//iCal Export//EN
BEGIN:VEVENT
SUMMARY:Line Dancing 101
UID:22225
DTSTAMP:20260426T002300Z
DTSTART:20260520T143000Z
DTEND:20260520T153000Z
LOCATION:Bayou Blue Recreation, 200 Mazerac Street, Houma, LA 70364, Unite
 d States
ROOM: Bayou Blue - Recreation/Senior Center
DESCRIPTION:Kick up your heels and have a ball with others at the library.
  Learn new line dances or practice old ones. Though aimed at beginners, al
 l levels are welcomed!Age Group:  AdultsProgram Type:  No Registration/L
 imit
URL:https://lafourche.librarycalendar.com/event/line-dancing-101-22225
END:VEVENT
END:VCALENDAR
