BEGIN:VCALENDAR
VERSION:2.0
PRODID:-//Library Market//iCal Export//EN
BEGIN:VEVENT
SUMMARY:Line Dancing Basics (L15)
UID:22229
DTSTAMP:20260425T194100Z
DTSTART:20260518T180000Z
DTEND:20260518T190000Z
LOCATION:198 Mazerac Street, Houma, LA 70364, United States
ROOM: Bayou Blue - Meeting Room
DESCRIPTION:Join Ms. Janet for this 6-week session as she teaches basic li
 ne dancing steps. A great prep for our Line Dancing 101! Age Group:  Adu
 ltsProgram Type:  (L15) Limited to the first 15 participants
URL:https://lafourche.librarycalendar.com/event/line-dancing-basics-l15-22
 229
END:VEVENT
END:VCALENDAR
