BEGIN:VCALENDAR
VERSION:2.0
PRODID:-//Library Market//iCal Export//EN
BEGIN:VEVENT
SUMMARY:STEAM Sit-Down
UID:22238
DTSTAMP:20260425T102600Z
DTSTART:20260518T193000Z
DTEND:20260518T210000Z
LOCATION:198 Mazerac Street, Houma, LA 70364, United States
ROOM: Bayou Blue - Circulation Area
DESCRIPTION:Code, construct, create, &amp; have fun with cool STEAM resour
 ces at the library every Monday – Thursday from 2:30-4 PM.Age Group:  A
 ll AgesProgram Type:  No Registration/Limit
URL:https://lafourche.librarycalendar.com/event/steam-sit-down-22238
END:VEVENT
END:VCALENDAR
