BEGIN:VCALENDAR
VERSION:2.0
PRODID:-//Library Market//iCal Export//EN
BEGIN:VEVENT
SUMMARY:Bike Rodeo
UID:22247
DTSTAMP:20260425T194100Z
DTSTART:20260527T160000Z
DTEND:20260527T170000Z
LOCATION:198 Mazerac Street, Houma, LA 70364, United States
ROOM: Bayou Blue - Outside Area
DESCRIPTION:Bring your bikes to learn about bike safety and have some cycl
 ing fun!Age Group:  Early Learners &amp; KidsProgram Type:  No Registrat
 ion/Limit
URL:https://lafourche.librarycalendar.com/event/bike-rodeo-22247
END:VEVENT
END:VCALENDAR
