BEGIN:VCALENDAR
VERSION:2.0
PRODID:-//Library Market//iCal Export//EN
BEGIN:VEVENT
SUMMARY:Jedi Training Academy
UID:22253
DTSTAMP:20260425T015600Z
DTSTART:20260504T204500Z
DTEND:20260504T214500Z
LOCATION:198 Mazerac Street, Houma, LA 70364, United States
ROOM: Bayou Blue - Meeting Room
DESCRIPTION:Celebrate May the 4th by completing fun Star Wars themed tasks
  such as a scavenger hunt, mini bowling, Star Wars crafts, and a light sab
 er lesson to earn your Jedi Knight training certificate!Age Group:  KidsP
 rogram Type:  No Registration/Limit
URL:https://lafourche.librarycalendar.com/event/jedi-training-academy-2225
 3
END:VEVENT
END:VCALENDAR
