BEGIN:VCALENDAR
VERSION:2.0
PRODID:-//Library Market//iCal Export//EN
BEGIN:VEVENT
SUMMARY:Flower Power Workshop
UID:22254
DTSTAMP:20260426T004300Z
DTSTART:20260506T204500Z
DTEND:20260506T214500Z
LOCATION:198 Mazerac Street, Houma, LA 70364, United States
ROOM: Bayou Blue - Circulation Area
DESCRIPTION:Join us to make a special flower craft for mom! Age Group:  
 KidsProgram Type:  No Registration/Limit
URL:https://lafourche.librarycalendar.com/event/flower-power-workshop-2225
 4
END:VEVENT
END:VCALENDAR
