BEGIN:VCALENDAR
VERSION:2.0
PRODID:-//Library Market//iCal Export//EN
BEGIN:VEVENT
SUMMARY:Slime Time: Galaxy Slime
UID:22255
DTSTAMP:20260425T015600Z
DTSTART:20260505T204500Z
DTEND:20260505T214500Z
LOCATION:198 Mazerac Street, Houma, LA 70364, United States
ROOM: Bayou Blue - Circulation Area
DESCRIPTION:Join us to make galaxy-themed slime!Age Group:  TeensProgram 
 Type:  No Registration/Limit
URL:https://lafourche.librarycalendar.com/event/slime-time-galaxy-slime-22
 255
END:VEVENT
END:VCALENDAR
