BEGIN:VCALENDAR
VERSION:2.0
PRODID:-//Library Market//iCal Export//EN
BEGIN:VEVENT
SUMMARY:Jackbox Game Day (L8)
UID:22257
DTSTAMP:20260426T002300Z
DTSTART:20260507T200000Z
DTEND:20260507T210000Z
LOCATION:198 Mazerac Street, Houma, LA 70364, United States
ROOM: Bayou Blue - Meeting Room
DESCRIPTION:Join us for some digital party game fun. Don’t forget to bri
 ng your phone! Games include trivia, drawing, and creative drawing using a
  smartphone as your controller. Games are for ages 13 and up. Patrons that
  participate will play in “family friendly” mode. For more information
  visit: https://www.jackboxgames.com/jackbox-for-familiesAge Group: Teens
 Program Type:  (L8) Limited to the first 8 participants
URL:https://lafourche.librarycalendar.com/event/jackbox-game-day-l8-22257
END:VEVENT
END:VCALENDAR
