BEGIN:VCALENDAR
VERSION:2.0
PRODID:-//Library Market//iCal Export//EN
BEGIN:VEVENT
SUMMARY:Cardio Crew Too
UID:22272
DTSTAMP:20260426T002300Z
DTSTART:20260528T153000Z
DTEND:20260528T163000Z
LOCATION:198 Mazerac Street, Houma, LA 70364, United States
ROOM: Bayou Blue - Meeting Room
DESCRIPTION:A repeat of our popular Cardio Crew Class – Low impact cardi
 o, strength and stretching.Age Group:  AdultsProgram Type:  No Registrat
 ion/Limit
URL:https://lafourche.librarycalendar.com/event/cardio-crew-too-22272
END:VEVENT
END:VCALENDAR
