BEGIN:VCALENDAR
VERSION:2.0
PRODID:-//Library Market//iCal Export//EN
BEGIN:VEVENT
SUMMARY:Bug Hunt Sensory Play
UID:22273
DTSTAMP:20260425T102600Z
DTSTART:20260520T150000Z
DTEND:20260520T160000Z
LOCATION:1887 Choctaw Road, Thibodaux, LA 70301, United States
ROOM: Choctaw - Meeting Room
DESCRIPTION:Engage your toddlers five senses, help support brain developme
 nt, fine motor skills and language growth in this open-ended sensory play.
  Toddlers will be encouraged to explore bug themed stations.Age Group:  E
 arly Learners, Ages 0-5Program Type:  No Registration/Limit
URL:https://lafourche.librarycalendar.com/event/bug-hunt-sensory-play-2227
 3
END:VEVENT
END:VCALENDAR
