BEGIN:VCALENDAR
VERSION:2.0
PRODID:-//Library Market//iCal Export//EN
BEGIN:VEVENT
SUMMARY:Clack Game
UID:22289
DTSTAMP:20260426T004300Z
DTSTART:20260505T200000Z
DTEND:20260505T210000Z
LOCATION:1887 Choctaw Road, Thibodaux, LA 70301, United States
ROOM: Choctaw - Meeting Room
DESCRIPTION:CLACK! is both the name of the game and the sound you’ll he
 ar when playing this fun, fast paced matching game.Age Group:  Ages 12-17
 Program Type:  No Registration/Limit
URL:https://lafourche.librarycalendar.com/event/clack-game-22289
END:VEVENT
END:VCALENDAR
