BEGIN:VCALENDAR
VERSION:2.0
PRODID:-//Library Market//iCal Export//EN
BEGIN:VEVENT
SUMMARY:STEAM Sit-Down
UID:22301
DTSTAMP:20260425T194100Z
DTSTART:20260521T180000Z
DTEND:20260521T220000Z
LOCATION:1887 Choctaw Road, Thibodaux, LA 70301, United States
ROOM: Choctaw - Reading Area
DESCRIPTION:Code, construct, create, &amp; have fun with cool STEAM resour
 ces at the library every Monday-Thursday, 1-5 PM.Age Group:  All AgesProg
 ram Type:  No Registration/Limit
URL:https://lafourche.librarycalendar.com/event/steam-sit-down-22301
END:VEVENT
END:VCALENDAR
