BEGIN:VCALENDAR
VERSION:2.0
PRODID:-//Library Market//iCal Export//EN
BEGIN:VEVENT
SUMMARY:Mixed Media Art
UID:22306
DTSTAMP:20260425T194100Z
DTSTART:20260519T210000Z
DTEND:20260519T220000Z
LOCATION:1887 Choctaw Road, Thibodaux, LA 70301, United States
ROOM: Choctaw - Meeting Room
DESCRIPTION:Bold and bright daisies will be crafted using a variety of art
  mediums.Age Group:  Ages 12-17Program Type:  No Registration/Limit
URL:https://lafourche.librarycalendar.com/event/mixed-media-art-22306
END:VEVENT
END:VCALENDAR
