BEGIN:VCALENDAR
VERSION:2.0
PRODID:-//Library Market//iCal Export//EN
BEGIN:VEVENT
SUMMARY:BINGO
UID:22308
DTSTAMP:20260425T194100Z
DTSTART:20260504T150000Z
DTEND:20260504T160000Z
LOCATION:1887 Choctaw Road, Thibodaux, LA 70301, United States
ROOM: Choctaw - Meeting Room
DESCRIPTION:Will luck be on your side as the numbers are called? Bring a f
 riend and have a great time while we play multiple rounds of BINGO for pri
 zes.Age Group:  AdultsProgram Type:  No Registration/Limit
URL:https://lafourche.librarycalendar.com/event/bingo-22308
END:VEVENT
END:VCALENDAR
