BEGIN:VCALENDAR
VERSION:2.0
PRODID:-//Library Market//iCal Export//EN
BEGIN:VEVENT
SUMMARY:Card Games &amp; Chat
UID:22312
DTSTAMP:20260425T202000Z
DTSTART:20260518T150000Z
DTEND:20260518T160000Z
LOCATION:1887 Choctaw Road, Thibodaux, LA 70301, United States
ROOM: Choctaw - Meeting Room
DESCRIPTION:Do you like card games like Phase Ten, UNO, Rummy and more? Ho
 w about talking with friends? Well you are in luck! This program has both,
  plus fun and friendly competition and conversation.Age Group:  Ages 18+P
 rogram Type:  No Registration/Limit
URL:https://lafourche.librarycalendar.com/event/card-games-chat-22312
END:VEVENT
END:VCALENDAR
