BEGIN:VCALENDAR
VERSION:2.0
PRODID:-//Library Market//iCal Export//EN
BEGIN:VEVENT
SUMMARY:Bicycle Safety &amp; Fun
UID:22323
DTSTAMP:20260425T015600Z
DTSTART:20260504T210000Z
DTEND:20260504T220000Z
LOCATION:1887 Choctaw Road, Thibodaux, LA 70301, United States
ROOM: Choctaw - Meeting Room
DESCRIPTION:Summer time is right around the corner, that means lots of bik
 e riding time. Learn how to be the safest bike rider you can be during a v
 ideo presentation with take away information.Age Group:  All AgesProgram 
 Type:  No Registration/Limit
URL:https://lafourche.librarycalendar.com/event/bicycle-safety-fun-22323
END:VEVENT
END:VCALENDAR
