BEGIN:VCALENDAR
VERSION:2.0
PRODID:-//Library Market//iCal Export//EN
BEGIN:VEVENT
SUMMARY:Rainbow Scratch Dinosaurs
UID:22334
DTSTAMP:20260425T200200Z
DTSTART:20260526T180000Z
DTEND:20260526T210000Z
LOCATION:1887 Choctaw Road, Thibodaux, LA 70301, United States
ROOM: Choctaw - Main Area
DESCRIPTION:Let your creativity and imagination shine with dino rainbow sc
 ratch art. Age Group:  All AgesProgram Type:  No Registration/Limit
URL:https://lafourche.librarycalendar.com/event/rainbow-scratch-dinosaurs-
 22334
END:VEVENT
END:VCALENDAR
