BEGIN:VCALENDAR
VERSION:2.0
PRODID:-//Library Market//iCal Export//EN
BEGIN:VEVENT
SUMMARY:Jurassic Strikes Bowling
UID:22339
DTSTAMP:20260425T194100Z
DTSTART:20260528T180000Z
DTEND:20260528T190000Z
LOCATION:1887 Choctaw Road, Thibodaux, LA 70301, United States
ROOM: Choctaw - Meeting Room
DESCRIPTION:How many “dinos” will you knock down during this fun bowli
 ng experience? Age Group:  All AgesProgram Type:  No Registration/Limit
URL:https://lafourche.librarycalendar.com/event/jurassic-strikes-bowling-2
 2339
END:VEVENT
END:VCALENDAR
