BEGIN:VCALENDAR
VERSION:2.0
PRODID:-//Library Market//iCal Export//EN
BEGIN:VEVENT
SUMMARY:K-pop &amp; Craft
UID:22354
DTSTAMP:20260425T102600Z
DTSTART:20260527T153000Z
DTEND:20260527T163000Z
LOCATION:720 Crescent Avenue, Lockport, LA 70374, United States
ROOM: Lockport - Meeting Room
DESCRIPTION:Have a project you want to work on? Or want to use our supplie
 s for a new hobby? Come by the library to listen to K-pop and make a proje
 ct. We have perler beads, Mahjong boards, jewelry making, and soap making 
 supplies.Age Group:  Ages 13-17Program Type:  No Registration/Limit
URL:https://lafourche.librarycalendar.com/event/k-pop-craft-22354
END:VEVENT
END:VCALENDAR
