BEGIN:VCALENDAR
VERSION:2.0
PRODID:-//Library Market//iCal Export//EN
BEGIN:VEVENT
SUMMARY:Pokeno
UID:22356
DTSTAMP:20260425T194100Z
DTSTART:20260522T150000Z
DTEND:20260522T160000Z
LOCATION:720 Crescent Avenue, Lockport, LA 70374, United States
ROOM: Lockport - Meeting Room
DESCRIPTION:Play Pokeno at the library for a chance to win a small prize.A
 ge Group:  AdultsProgram Type:  No Registration/Limit
URL:https://lafourche.librarycalendar.com/event/pokeno-22356
END:VEVENT
END:VCALENDAR
