BEGIN:VCALENDAR
VERSION:2.0
PRODID:-//Library Market//iCal Export//EN
BEGIN:VEVENT
SUMMARY:STEAM Sit-Down
UID:22378
DTSTAMP:20260425T194100Z
DTSTART:20260521T200000Z
DTEND:20260521T220000Z
LOCATION:720 Crescent Avenue, Lockport, LA 70374, United States
ROOM: Lockport - Computer Lab
DESCRIPTION:Code, construct, create, and have fun with cool STEAM (science
 , technology, engineering, art, and math) resources at the library, every 
 Monday-Saturday from 3:00 PMâ€”5:00 PM.Age Group: Â All AgesProgram Type:Â
   No Registration/Limit
URL:https://lafourche.librarycalendar.com/event/steam-sit-down-22378
END:VEVENT
END:VCALENDAR
