BEGIN:VCALENDAR
VERSION:2.0
PRODID:-//Library Market//iCal Export//EN
BEGIN:VEVENT
SUMMARY:Frog Scavenger Hunt
UID:22400
DTSTAMP:20260425T102600Z
DTSTART:20260515T050000Z
DTEND:20260515T050000Z
LOCATION:720 Crescent Avenue, Lockport, LA 70374, United States
ROOM: Lockport - Main Area
DESCRIPTION:Summer is right around the corner. Can you find all the frogs 
 hidden in the Lockport Library? Every week, they’ll pick a new spot. Com
 e in weekly and win a sweet treat prize for finding all the frogs.Age Grou
 p:  All AgesProgram Type:  No Registration/Limit
URL:https://lafourche.librarycalendar.com/event/frog-scavenger-hunt-22400
END:VEVENT
END:VCALENDAR
