BEGIN:VCALENDAR
VERSION:2.0
PRODID:-//Library Market//iCal Export//EN
BEGIN:VEVENT
SUMMARY:Bingo Battle
UID:22415
DTSTAMP:20260425T202000Z
DTSTART:20260506T213000Z
DTEND:20260506T223000Z
LOCATION:720 Crescent Avenue, Lockport, LA 70374, United States
ROOM: Lockport - Meeting Room
DESCRIPTION:Play BINGO with your library friends and have a chance to win 
 prizes!Age Group:  All AgesProgram Type:  No Registration/Limit
URL:https://lafourche.librarycalendar.com/event/bingo-battle-22415
END:VEVENT
END:VCALENDAR
